BEGIN:VCALENDAR
VERSION:2.0
PRODID:-//Gordon Setter Club Of America, Inc. - ECPv6.15.20//NONSGML v1.0//EN
CALSCALE:GREGORIAN
METHOD:PUBLISH
X-WR-CALNAME:Gordon Setter Club Of America, Inc.
X-ORIGINAL-URL:https://gsca.org
X-WR-CALDESC:Events for Gordon Setter Club Of America, Inc.
REFRESH-INTERVAL;VALUE=DURATION:PT1H
X-Robots-Tag:noindex
X-PUBLISHED-TTL:PT1H
BEGIN:VTIMEZONE
TZID:America/New_York
BEGIN:DAYLIGHT
TZOFFSETFROM:-0500
TZOFFSETTO:-0400
TZNAME:EDT
DTSTART:20230312T070000
END:DAYLIGHT
BEGIN:STANDARD
TZOFFSETFROM:-0400
TZOFFSETTO:-0500
TZNAME:EST
DTSTART:20231105T060000
END:STANDARD
BEGIN:DAYLIGHT
TZOFFSETFROM:-0500
TZOFFSETTO:-0400
TZNAME:EDT
DTSTART:20240310T070000
END:DAYLIGHT
BEGIN:STANDARD
TZOFFSETFROM:-0400
TZOFFSETTO:-0500
TZNAME:EST
DTSTART:20241103T060000
END:STANDARD
BEGIN:DAYLIGHT
TZOFFSETFROM:-0500
TZOFFSETTO:-0400
TZNAME:EDT
DTSTART:20250309T070000
END:DAYLIGHT
BEGIN:STANDARD
TZOFFSETFROM:-0400
TZOFFSETTO:-0500
TZNAME:EST
DTSTART:20251102T060000
END:STANDARD
BEGIN:DAYLIGHT
TZOFFSETFROM:-0500
TZOFFSETTO:-0400
TZNAME:EDT
DTSTART:20260308T070000
END:DAYLIGHT
BEGIN:STANDARD
TZOFFSETFROM:-0400
TZOFFSETTO:-0500
TZNAME:EST
DTSTART:20261101T060000
END:STANDARD
BEGIN:DAYLIGHT
TZOFFSETFROM:-0500
TZOFFSETTO:-0400
TZNAME:EDT
DTSTART:20270314T070000
END:DAYLIGHT
BEGIN:STANDARD
TZOFFSETFROM:-0400
TZOFFSETTO:-0500
TZNAME:EST
DTSTART:20271107T060000
END:STANDARD
END:VTIMEZONE
BEGIN:VEVENT
DTSTART;VALUE=DATE:20260329
DTEND;VALUE=DATE:20260330
DTSTAMP:20260423T163211
CREATED:20251124T010834Z
LAST-MODIFIED:20251124T010834Z
UID:2753-1774742400-1774828799@gsca.org
SUMMARY:Nodrog GSC Hunt Test (MI)
DESCRIPTION:
URL:https://gsca.org/event/nodrog-gsc-hunt-test-mi/
LOCATION:Highland Recreation Area – Barn Course\, 5200 Highland Rd\, White Lake\, MI\, 48383-2530\, United States
CATEGORIES:Hunt Test
ORGANIZER;CN="Bea VanKampen":MAILTO:Bea_vankampen@Hotmail.com
END:VEVENT
BEGIN:VEVENT
DTSTART;VALUE=DATE:20251213
DTEND;VALUE=DATE:20251215
DTSTAMP:20260423T163211
CREATED:20251124T004806Z
LAST-MODIFIED:20251124T004806Z
UID:2742-1765584000-1765756799@gsca.org
SUMMARY:GSCA MidWest Hunt Test (OH)
DESCRIPTION:
URL:https://gsca.org/event/gsca-midwest-hunt-test-oh/
LOCATION:Webb Farm\, 7910 Darby Rd.\, Circleville\, OH\, 43113\, United States
CATEGORIES:Hunt Test
ORGANIZER;CN="Jane Sindel":MAILTO:Janegilbertsindel@gmail.com
END:VEVENT
BEGIN:VEVENT
DTSTART;VALUE=DATE:20251024
DTEND;VALUE=DATE:20251025
DTSTAMP:20260423T163211
CREATED:20250406T205525Z
LAST-MODIFIED:20251002T133211Z
UID:2362-1761264000-1761350399@gsca.org
SUMMARY:National Specialty Hunting Test (MA)
DESCRIPTION:OPEN TO ALL ELIGIBLE BREEDS \nOctober 24.  National Specialty Hunt Test. Ladywoods Game Preserve. Douglas\, MA. Richard Dwyer\, (603) 748-1504. dragonwoods@mcttelecom.com \nDownload the premium list here\n 
URL:https://gsca.org/event/national-specialty-hunting-test-ma/
LOCATION:Ladywoods Game Preserve\, 312 Wallum Lake Rd\, Douglas\, MA\, 01516\, United States
CATEGORIES:Hunt Test
ORGANIZER;CN="Richard Dwyer":MAILTO:dragonwoods@mctelecom.com
END:VEVENT
BEGIN:VEVENT
DTSTART;VALUE=DATE:20251018
DTEND;VALUE=DATE:20251020
DTSTAMP:20260423T163211
CREATED:20250721T224734Z
LAST-MODIFIED:20250721T224925Z
UID:2651-1760745600-1760918399@gsca.org
SUMMARY:Nodrog Fall Hunt Test (MI)
DESCRIPTION:
URL:https://gsca.org/event/nodrog-fall-hunt-test-mi/
LOCATION:Highland Recreation Area – Barn Course\, 5200 Highland Rd\, White Lake\, MI\, 48383-2530\, United States
CATEGORIES:Hunt Test
ORGANIZER;CN="Bea VanKampen":MAILTO:Bea_vankampen@Hotmail.com
END:VEVENT
BEGIN:VEVENT
DTSTART;VALUE=DATE:20241113
DTEND;VALUE=DATE:20241115
DTSTAMP:20260423T163211
CREATED:20241118T222005Z
LAST-MODIFIED:20241118T222355Z
UID:2127-1731524400-1731610799@gsca.org
SUMMARY:GSCA Hunt Test (Pointing Breeds)
DESCRIPTION:
URL:https://gsca.org/event/gsca-hunt-test-pointing-breeds/
LOCATION:Webb Farm\, 7910 Darby Rd.\, Circleville\, OH\, 43113\, United States
CATEGORIES:Hunt Test
ORGANIZER;CN="Robert Webb":MAILTO:robertwebb7910@gmail.com
END:VEVENT
END:VCALENDAR