BEGIN:VCALENDAR
VERSION:2.0
PRODID:-//Gordon Setter Club Of America, Inc. - ECPv6.15.20//NONSGML v1.0//EN
CALSCALE:GREGORIAN
METHOD:PUBLISH
X-WR-CALNAME:Gordon Setter Club Of America, Inc.
X-ORIGINAL-URL:https://gsca.org
X-WR-CALDESC:Events for Gordon Setter Club Of America, Inc.
REFRESH-INTERVAL;VALUE=DURATION:PT1H
X-Robots-Tag:noindex
X-PUBLISHED-TTL:PT1H
BEGIN:VTIMEZONE
TZID:America/New_York
BEGIN:DAYLIGHT
TZOFFSETFROM:-0500
TZOFFSETTO:-0400
TZNAME:EDT
DTSTART:20240310T070000
END:DAYLIGHT
BEGIN:STANDARD
TZOFFSETFROM:-0400
TZOFFSETTO:-0500
TZNAME:EST
DTSTART:20241103T060000
END:STANDARD
BEGIN:DAYLIGHT
TZOFFSETFROM:-0500
TZOFFSETTO:-0400
TZNAME:EDT
DTSTART:20250309T070000
END:DAYLIGHT
BEGIN:STANDARD
TZOFFSETFROM:-0400
TZOFFSETTO:-0500
TZNAME:EST
DTSTART:20251102T060000
END:STANDARD
BEGIN:DAYLIGHT
TZOFFSETFROM:-0500
TZOFFSETTO:-0400
TZNAME:EDT
DTSTART:20260308T070000
END:DAYLIGHT
BEGIN:STANDARD
TZOFFSETFROM:-0400
TZOFFSETTO:-0500
TZNAME:EST
DTSTART:20261101T060000
END:STANDARD
END:VTIMEZONE
BEGIN:VEVENT
DTSTART;VALUE=DATE:20251024
DTEND;VALUE=DATE:20251025
DTSTAMP:20260424T015603
CREATED:20250406T205525Z
LAST-MODIFIED:20251002T133211Z
UID:2362-1761264000-1761350399@gsca.org
SUMMARY:National Specialty Hunting Test (MA)
DESCRIPTION:OPEN TO ALL ELIGIBLE BREEDS \nOctober 24.  National Specialty Hunt Test. Ladywoods Game Preserve. Douglas\, MA. Richard Dwyer\, (603) 748-1504. dragonwoods@mcttelecom.com \nDownload the premium list here\n 
URL:https://gsca.org/event/national-specialty-hunting-test-ma/
LOCATION:Ladywoods Game Preserve\, 312 Wallum Lake Rd\, Douglas\, MA\, 01516\, United States
CATEGORIES:Hunt Test
ORGANIZER;CN="Richard Dwyer":MAILTO:dragonwoods@mctelecom.com
END:VEVENT
END:VCALENDAR