BEGIN:VCALENDAR
VERSION:2.0
PRODID:-//Gordon Setter Club Of America, Inc. - ECPv6.15.20//NONSGML v1.0//EN
CALSCALE:GREGORIAN
METHOD:PUBLISH
X-ORIGINAL-URL:https://gsca.org
X-WR-CALDESC:Events for Gordon Setter Club Of America, Inc.
REFRESH-INTERVAL;VALUE=DURATION:PT1H
X-Robots-Tag:noindex
X-PUBLISHED-TTL:PT1H
BEGIN:VTIMEZONE
TZID:America/New_York
BEGIN:DAYLIGHT
TZOFFSETFROM:-0500
TZOFFSETTO:-0400
TZNAME:EDT
DTSTART:20240310T070000
END:DAYLIGHT
BEGIN:STANDARD
TZOFFSETFROM:-0400
TZOFFSETTO:-0500
TZNAME:EST
DTSTART:20241103T060000
END:STANDARD
BEGIN:DAYLIGHT
TZOFFSETFROM:-0500
TZOFFSETTO:-0400
TZNAME:EDT
DTSTART:20250309T070000
END:DAYLIGHT
BEGIN:STANDARD
TZOFFSETFROM:-0400
TZOFFSETTO:-0500
TZNAME:EST
DTSTART:20251102T060000
END:STANDARD
BEGIN:DAYLIGHT
TZOFFSETFROM:-0500
TZOFFSETTO:-0400
TZNAME:EDT
DTSTART:20260308T070000
END:DAYLIGHT
BEGIN:STANDARD
TZOFFSETFROM:-0400
TZOFFSETTO:-0500
TZNAME:EST
DTSTART:20261101T060000
END:STANDARD
END:VTIMEZONE
BEGIN:VEVENT
DTSTART;VALUE=DATE:20251103
DTEND;VALUE=DATE:20251110
DTSTAMP:20260424T055035
CREATED:20250721T225856Z
LAST-MODIFIED:20250721T225856Z
UID:2661-1762128000-1762732799@gsca.org
SUMMARY:GSCA National Championships (KS)
DESCRIPTION:
URL:https://gsca.org/event/gsca-national-championships-ks/
LOCATION:Betchel Ranch\, 957 G Rd\, Eureka\, KS\, 67047\, United States
CATEGORIES:Field Trial
ORGANIZER;CN="Janet Grunbok":MAILTO:jgrunbok@cs.com
END:VEVENT
BEGIN:VEVENT
DTSTART;VALUE=DATE:20251105
DTEND;VALUE=DATE:20251106
DTSTAMP:20260424T055035
CREATED:20250721T230122Z
LAST-MODIFIED:20250721T230122Z
UID:2665-1762300800-1762387199@gsca.org
SUMMARY:GSCA Setter-Fest (KS)
DESCRIPTION:
URL:https://gsca.org/event/gsca-setter-fest-ks/
LOCATION:Betchel Ranch\, 957 G Rd\, Eureka\, KS\, 67047\, United States
CATEGORIES:Field Trial
ORGANIZER;CN="Janet Grunbok":MAILTO:jgrunbok@cs.com
END:VEVENT
END:VCALENDAR