BEGIN:VCALENDAR
VERSION:2.0
PRODID:-//Gordon Setter Club Of America, Inc. - ECPv6.15.20//NONSGML v1.0//EN
CALSCALE:GREGORIAN
METHOD:PUBLISH
X-WR-CALNAME:Gordon Setter Club Of America, Inc.
X-ORIGINAL-URL:https://gsca.org
X-WR-CALDESC:Events for Gordon Setter Club Of America, Inc.
REFRESH-INTERVAL;VALUE=DURATION:PT1H
X-Robots-Tag:noindex
X-PUBLISHED-TTL:PT1H
BEGIN:VTIMEZONE
TZID:America/New_York
BEGIN:DAYLIGHT
TZOFFSETFROM:-0500
TZOFFSETTO:-0400
TZNAME:EDT
DTSTART:20240310T070000
END:DAYLIGHT
BEGIN:STANDARD
TZOFFSETFROM:-0400
TZOFFSETTO:-0500
TZNAME:EST
DTSTART:20241103T060000
END:STANDARD
BEGIN:DAYLIGHT
TZOFFSETFROM:-0500
TZOFFSETTO:-0400
TZNAME:EDT
DTSTART:20250309T070000
END:DAYLIGHT
BEGIN:STANDARD
TZOFFSETFROM:-0400
TZOFFSETTO:-0500
TZNAME:EST
DTSTART:20251102T060000
END:STANDARD
BEGIN:DAYLIGHT
TZOFFSETFROM:-0500
TZOFFSETTO:-0400
TZNAME:EDT
DTSTART:20260308T070000
END:DAYLIGHT
BEGIN:STANDARD
TZOFFSETFROM:-0400
TZOFFSETTO:-0500
TZNAME:EST
DTSTART:20261101T060000
END:STANDARD
END:VTIMEZONE
BEGIN:VEVENT
DTSTART;VALUE=DATE:20251010
DTEND;VALUE=DATE:20251013
DTSTAMP:20260424T054453
CREATED:20250721T223455Z
LAST-MODIFIED:20250721T223455Z
UID:2644-1760054400-1760313599@gsca.org
SUMMARY:GSCA Walking Field Trial\, Tri-Valley Wildlife Area (OH)
DESCRIPTION:
URL:https://gsca.org/event/gsca-walking-field-trial-tri-valley-wildlife-area-oh/
LOCATION:Highland Recreation Area – Silo Course\, 5200 Highland Rd\, White Lake\, MI\, 48383-2530\, United States
CATEGORIES:Field Trial
ORGANIZER;CN="Mary Grill":MAILTO:mfgrill625@gmail.com
END:VEVENT
BEGIN:VEVENT
DTSTART;VALUE=DATE:20251014
DTEND;VALUE=DATE:20251016
DTSTAMP:20260424T054453
CREATED:20250416T201253Z
LAST-MODIFIED:20250820T122319Z
UID:2365-1760400000-1760572799@gsca.org
SUMMARY:National Walking Gun Dog Championship
DESCRIPTION:Premium List
URL:https://gsca.org/event/national-walking-gun-dog-championship/
LOCATION:Ionia Field Trial Grounds\, 1980 W David Hwy\, Ionia\, MI\, 48846\, United States
CATEGORIES:Field Trial
ATTACH;FMTTYPE=application/pdf:https://gsca.org/wp-content/uploads/2025/04/NWGDC-logo-Leo-font-1.pdf
ORGANIZER;CN="Rhonda Conrum":MAILTO:Rhonda@technologywerks.com
END:VEVENT
END:VCALENDAR