BEGIN:VCALENDAR
VERSION:2.0
PRODID:-//Gordon Setter Club Of America, Inc. - ECPv6.15.20//NONSGML v1.0//EN
CALSCALE:GREGORIAN
METHOD:PUBLISH
X-ORIGINAL-URL:https://gsca.org
X-WR-CALDESC:Events for Gordon Setter Club Of America, Inc.
REFRESH-INTERVAL;VALUE=DURATION:PT1H
X-Robots-Tag:noindex
X-PUBLISHED-TTL:PT1H
BEGIN:VTIMEZONE
TZID:America/New_York
BEGIN:DAYLIGHT
TZOFFSETFROM:-0500
TZOFFSETTO:-0400
TZNAME:EDT
DTSTART:20250309T070000
END:DAYLIGHT
BEGIN:STANDARD
TZOFFSETFROM:-0400
TZOFFSETTO:-0500
TZNAME:EST
DTSTART:20251102T060000
END:STANDARD
BEGIN:DAYLIGHT
TZOFFSETFROM:-0500
TZOFFSETTO:-0400
TZNAME:EDT
DTSTART:20260308T070000
END:DAYLIGHT
BEGIN:STANDARD
TZOFFSETFROM:-0400
TZOFFSETTO:-0500
TZNAME:EST
DTSTART:20261101T060000
END:STANDARD
BEGIN:DAYLIGHT
TZOFFSETFROM:-0500
TZOFFSETTO:-0400
TZNAME:EDT
DTSTART:20270314T070000
END:DAYLIGHT
BEGIN:STANDARD
TZOFFSETFROM:-0400
TZOFFSETTO:-0500
TZNAME:EST
DTSTART:20271107T060000
END:STANDARD
END:VTIMEZONE
BEGIN:VEVENT
DTSTART;TZID=America/New_York:20260830T080000
DTEND;TZID=America/New_York:20260830T170000
DTSTAMP:20260423T191456
CREATED:20260322T195401Z
LAST-MODIFIED:20260322T195401Z
UID:3167-1788076800-1788109200@gsca.org
SUMMARY:TarTan GSC FastCat (CT)
DESCRIPTION:
URL:https://gsca.org/event/tartan-gsc-fastcat-ct/
LOCATION:Camelot Canine Services\, 28 Fluery Drive\, Stafford Springs\, CT\, 06076-3817\, United States
CATEGORIES:FastCat
ORGANIZER;CN="Jenn MacWalter":MAILTO:Jenn.ashdoda@yahoo.com
END:VEVENT
END:VCALENDAR