BEGIN:VCALENDAR
VERSION:2.0
PRODID:-//Gordon Setter Club Of America, Inc. - ECPv6.15.20//NONSGML v1.0//EN
CALSCALE:GREGORIAN
METHOD:PUBLISH
X-ORIGINAL-URL:https://gsca.org
X-WR-CALDESC:Events for Gordon Setter Club Of America, Inc.
REFRESH-INTERVAL;VALUE=DURATION:PT1H
X-Robots-Tag:noindex
X-PUBLISHED-TTL:PT1H
BEGIN:VTIMEZONE
TZID:America/New_York
BEGIN:DAYLIGHT
TZOFFSETFROM:-0500
TZOFFSETTO:-0400
TZNAME:EDT
DTSTART:20230312T070000
END:DAYLIGHT
BEGIN:STANDARD
TZOFFSETFROM:-0400
TZOFFSETTO:-0500
TZNAME:EST
DTSTART:20231105T060000
END:STANDARD
BEGIN:DAYLIGHT
TZOFFSETFROM:-0500
TZOFFSETTO:-0400
TZNAME:EDT
DTSTART:20240310T070000
END:DAYLIGHT
BEGIN:STANDARD
TZOFFSETFROM:-0400
TZOFFSETTO:-0500
TZNAME:EST
DTSTART:20241103T060000
END:STANDARD
BEGIN:DAYLIGHT
TZOFFSETFROM:-0500
TZOFFSETTO:-0400
TZNAME:EDT
DTSTART:20250309T070000
END:DAYLIGHT
BEGIN:STANDARD
TZOFFSETFROM:-0400
TZOFFSETTO:-0500
TZNAME:EST
DTSTART:20251102T060000
END:STANDARD
BEGIN:DAYLIGHT
TZOFFSETFROM:-0500
TZOFFSETTO:-0400
TZNAME:EDT
DTSTART:20260308T070000
END:DAYLIGHT
BEGIN:STANDARD
TZOFFSETFROM:-0400
TZOFFSETTO:-0500
TZNAME:EST
DTSTART:20261101T060000
END:STANDARD
END:VTIMEZONE
BEGIN:VEVENT
DTSTART;VALUE=DATE:20250219
DTEND;VALUE=DATE:20250222
DTSTAMP:20260423T182008
CREATED:20241118T232123Z
LAST-MODIFIED:20241118T232123Z
UID:2139-1739991600-1740164399@gsca.org
SUMMARY:GSCA Specialties (WI)
DESCRIPTION:
URL:https://gsca.org/event/gsca-specialties-wi/
LOCATION:Alliant Energy Center\, 1919 Alliant Energy Center Way\, Madison\, WI\, 53713\, United States
CATEGORIES:Conformation
ORGANIZER;CN="Barbara Manson":MAILTO:Kilernan@yahoo.com
END:VEVENT
BEGIN:VEVENT
DTSTART;VALUE=DATE:20250101
DTEND;VALUE=DATE:20250103
DTSTAMP:20260423T182008
CREATED:20241118T230839Z
LAST-MODIFIED:20241218T013530Z
UID:2131-1735758000-1735844399@gsca.org
SUMMARY:North Country GSC of MN Specialties (AM/PM)
DESCRIPTION:Download the premium list here\nhttps://www.onofrio.com/plist/xlnd1pl.pdf
URL:https://gsca.org/event/north-country-gsc-of-mn-specialties-am-pm/
LOCATION:River Centre\, 175 West Kellog Boulevard\, St Paul\, MN\, 55102\, United States
CATEGORIES:Conformation
ATTACH;FMTTYPE=image/jpeg:https://gsca.org/wp-content/uploads/2024/11/North-Country.jpg
ORGANIZER;CN="Holly Moen":MAILTO:moenhj@me.com
END:VEVENT
BEGIN:VEVENT
DTSTART;VALUE=DATE:20241206
DTEND;VALUE=DATE:20241209
DTSTAMP:20260423T182008
CREATED:20241118T081838Z
LAST-MODIFIED:20241118T081838Z
UID:2114-1733511600-1733684399@gsca.org
SUMMARY:GSCA Specialties (PA)
DESCRIPTION:
URL:https://gsca.org/event/gsca-specialties-pa/
LOCATION:Greater Philadelphia Expo Center\, 100 Station Ave\, Oaks\, PA\, 19456\, United States
CATEGORIES:Conformation
ORGANIZER;CN="Colleen O'Brien":MAILTO:caobrien@gmail.com
END:VEVENT
END:VCALENDAR