BEGIN:VCALENDAR
VERSION:2.0
PRODID:-//Gordon Setter Club Of America, Inc. - ECPv6.15.20//NONSGML v1.0//EN
CALSCALE:GREGORIAN
METHOD:PUBLISH
X-WR-CALNAME:Gordon Setter Club Of America, Inc.
X-ORIGINAL-URL:https://gsca.org
X-WR-CALDESC:Events for Gordon Setter Club Of America, Inc.
REFRESH-INTERVAL;VALUE=DURATION:PT1H
X-Robots-Tag:noindex
X-PUBLISHED-TTL:PT1H
BEGIN:VTIMEZONE
TZID:America/New_York
BEGIN:DAYLIGHT
TZOFFSETFROM:-0500
TZOFFSETTO:-0400
TZNAME:EDT
DTSTART:20240310T070000
END:DAYLIGHT
BEGIN:STANDARD
TZOFFSETFROM:-0400
TZOFFSETTO:-0500
TZNAME:EST
DTSTART:20241103T060000
END:STANDARD
BEGIN:DAYLIGHT
TZOFFSETFROM:-0500
TZOFFSETTO:-0400
TZNAME:EDT
DTSTART:20250309T070000
END:DAYLIGHT
BEGIN:STANDARD
TZOFFSETFROM:-0400
TZOFFSETTO:-0500
TZNAME:EST
DTSTART:20251102T060000
END:STANDARD
BEGIN:DAYLIGHT
TZOFFSETFROM:-0500
TZOFFSETTO:-0400
TZNAME:EDT
DTSTART:20260308T070000
END:DAYLIGHT
BEGIN:STANDARD
TZOFFSETFROM:-0400
TZOFFSETTO:-0500
TZNAME:EST
DTSTART:20261101T060000
END:STANDARD
END:VTIMEZONE
BEGIN:VEVENT
DTSTART;VALUE=DATE:20251020
DTEND;VALUE=DATE:20251021
DTSTAMP:20260424T022826
CREATED:20250721T225154Z
LAST-MODIFIED:20250826T171200Z
UID:2656-1760918400-1761004799@gsca.org
SUMMARY:TarTan Gordon Setter Club Specialty (MA)
DESCRIPTION:This is a companion specialty in conjunction with the GSCA National.  Please see that event for all the information.\n 
URL:https://gsca.org/event/tartan-gordon-setter-club-specialty-ma/
LOCATION:Boxboro Regency Hotel\, 242 Adams Pl\, Boxboro\, MA\, 01719\, United States
CATEGORIES:Conformation
ORGANIZER;CN="Robin Marshall":MAILTO:Rpix05@aol.com
END:VEVENT
END:VCALENDAR