BEGIN:VCALENDAR
VERSION:2.0
PRODID:-//Gordon Setter Club Of America, Inc. - ECPv6.15.20//NONSGML v1.0//EN
CALSCALE:GREGORIAN
METHOD:PUBLISH
X-WR-CALNAME:Gordon Setter Club Of America, Inc.
X-ORIGINAL-URL:https://gsca.org
X-WR-CALDESC:Events for Gordon Setter Club Of America, Inc.
REFRESH-INTERVAL;VALUE=DURATION:PT1H
X-Robots-Tag:noindex
X-PUBLISHED-TTL:PT1H
BEGIN:VTIMEZONE
TZID:America/New_York
BEGIN:DAYLIGHT
TZOFFSETFROM:-0500
TZOFFSETTO:-0400
TZNAME:EDT
DTSTART:20240310T070000
END:DAYLIGHT
BEGIN:STANDARD
TZOFFSETFROM:-0400
TZOFFSETTO:-0500
TZNAME:EST
DTSTART:20241103T060000
END:STANDARD
BEGIN:DAYLIGHT
TZOFFSETFROM:-0500
TZOFFSETTO:-0400
TZNAME:EDT
DTSTART:20250309T070000
END:DAYLIGHT
BEGIN:STANDARD
TZOFFSETFROM:-0400
TZOFFSETTO:-0500
TZNAME:EST
DTSTART:20251102T060000
END:STANDARD
BEGIN:DAYLIGHT
TZOFFSETFROM:-0500
TZOFFSETTO:-0400
TZNAME:EDT
DTSTART:20260308T070000
END:DAYLIGHT
BEGIN:STANDARD
TZOFFSETFROM:-0400
TZOFFSETTO:-0500
TZNAME:EST
DTSTART:20261101T060000
END:STANDARD
END:VTIMEZONE
BEGIN:VEVENT
DTSTART;VALUE=DATE:20251001
DTEND;VALUE=DATE:20251002
DTSTAMP:20260424T022755
CREATED:20250416T213054Z
LAST-MODIFIED:20250716T174510Z
UID:2411-1759276800-1759363199@gsca.org
SUMMARY:Morris & Essex Kennel Club Supported Entry
DESCRIPTION:Every five years\, starting in 2000\, the elegance\, glamour\, style and high level of judging quality of Geraldine Rockefeller Dodge’s original dog show held on her polo fields is brought back to life for a new generation. In its 1937 heyday\, more than 50\,000 dog-loving spectators descended upon sleepy Madison\, New Jersey\, and 4\,104 dogs were shown. In the show’s 2005 incarnation\, a total entry of 3\,619 dogs were presented in 160 different breeds or varieties\, with Ch. Rocky Tops Sundance Kid “Rufus” garnering Best in Show honors. In 2015\, the last time the Morris and Essex show was held\, more than 4\,150 entries of the world’s finest show dogs competed for the lofty title of Best in Show\, with proceeds benefiting various canine charities.
URL:https://gsca.org/event/morris-essex-kennel-club-supported-entry/
LOCATION:Colonial Park\, 156 Elizabeth Ave.\, Somerset\, NJ\, 08873\, United States
CATEGORIES:Conformation
ORGANIZER;CN="Iris Kaye Frankle":MAILTO:noahsarkgs@aol.com
END:VEVENT
END:VCALENDAR