BEGIN:VCALENDAR
VERSION:2.0
PRODID:-//Gordon Setter Club Of America, Inc. - ECPv6.15.20//NONSGML v1.0//EN
CALSCALE:GREGORIAN
METHOD:PUBLISH
X-WR-CALNAME:Gordon Setter Club Of America, Inc.
X-ORIGINAL-URL:https://gsca.org
X-WR-CALDESC:Events for Gordon Setter Club Of America, Inc.
REFRESH-INTERVAL;VALUE=DURATION:PT1H
X-Robots-Tag:noindex
X-PUBLISHED-TTL:PT1H
BEGIN:VTIMEZONE
TZID:America/New_York
BEGIN:DAYLIGHT
TZOFFSETFROM:-0500
TZOFFSETTO:-0400
TZNAME:EDT
DTSTART:20250309T070000
END:DAYLIGHT
BEGIN:STANDARD
TZOFFSETFROM:-0400
TZOFFSETTO:-0500
TZNAME:EST
DTSTART:20251102T060000
END:STANDARD
BEGIN:DAYLIGHT
TZOFFSETFROM:-0500
TZOFFSETTO:-0400
TZNAME:EDT
DTSTART:20260308T070000
END:DAYLIGHT
BEGIN:STANDARD
TZOFFSETFROM:-0400
TZOFFSETTO:-0500
TZNAME:EST
DTSTART:20261101T060000
END:STANDARD
BEGIN:DAYLIGHT
TZOFFSETFROM:-0500
TZOFFSETTO:-0400
TZNAME:EDT
DTSTART:20270314T070000
END:DAYLIGHT
BEGIN:STANDARD
TZOFFSETFROM:-0400
TZOFFSETTO:-0500
TZNAME:EST
DTSTART:20271107T060000
END:STANDARD
END:VTIMEZONE
BEGIN:VEVENT
DTSTART;VALUE=DATE:20260912
DTEND;VALUE=DATE:20260914
DTSTAMP:20260423T221142
CREATED:20250416T211241Z
LAST-MODIFIED:20260322T195716Z
UID:2394-1789171200-1789343999@gsca.org
SUMMARY:GSCA MidAtlantic Specialties (PA)
DESCRIPTION:
URL:https://gsca.org/event/gsca-midatlantic-specialties-pa/
LOCATION:Macungie Memorial Park\, 50 N Poplar St\, Macungie\, PA\, 18062\, United States
CATEGORIES:Conformation
ATTACH;FMTTYPE=image/jpeg:https://gsca.org/wp-content/uploads/2025/04/Midwest.jpg
ORGANIZER;CN="Colleen O'Brien":MAILTO:caobrien@gmail.com
END:VEVENT
BEGIN:VEVENT
DTSTART;TZID=America/New_York:20260919T080000
DTEND;TZID=America/New_York:20260919T170000
DTSTAMP:20260423T221142
CREATED:20260322T200302Z
LAST-MODIFIED:20260322T200315Z
UID:3173-1789804800-1789837200@gsca.org
SUMMARY:TarTan GSC Specialties (Designated & Concurrent) (CT)
DESCRIPTION:
URL:https://gsca.org/event/tartan-gsc-specialties-designated-concurrent-ct/
LOCATION:Goshen Fairgrounds\, 116 Old Middle St\, Goshen\, CT\, 06756\, United States
CATEGORIES:Conformation
ORGANIZER;CN="Robin Marshall":MAILTO:Rpix05@aol.com
END:VEVENT
END:VCALENDAR