BEGIN:VCALENDAR
VERSION:2.0
PRODID:-//Gordon Setter Club Of America, Inc. - ECPv6.15.20//NONSGML v1.0//EN
CALSCALE:GREGORIAN
METHOD:PUBLISH
X-ORIGINAL-URL:https://gsca.org
X-WR-CALDESC:Events for Gordon Setter Club Of America, Inc.
REFRESH-INTERVAL;VALUE=DURATION:PT1H
X-Robots-Tag:noindex
X-PUBLISHED-TTL:PT1H
BEGIN:VTIMEZONE
TZID:America/New_York
BEGIN:DAYLIGHT
TZOFFSETFROM:-0500
TZOFFSETTO:-0400
TZNAME:EDT
DTSTART:20250309T070000
END:DAYLIGHT
BEGIN:STANDARD
TZOFFSETFROM:-0400
TZOFFSETTO:-0500
TZNAME:EST
DTSTART:20251102T060000
END:STANDARD
BEGIN:DAYLIGHT
TZOFFSETFROM:-0500
TZOFFSETTO:-0400
TZNAME:EDT
DTSTART:20260308T070000
END:DAYLIGHT
BEGIN:STANDARD
TZOFFSETFROM:-0400
TZOFFSETTO:-0500
TZNAME:EST
DTSTART:20261101T060000
END:STANDARD
BEGIN:DAYLIGHT
TZOFFSETFROM:-0500
TZOFFSETTO:-0400
TZNAME:EDT
DTSTART:20270314T070000
END:DAYLIGHT
BEGIN:STANDARD
TZOFFSETFROM:-0400
TZOFFSETTO:-0500
TZNAME:EST
DTSTART:20271107T060000
END:STANDARD
END:VTIMEZONE
BEGIN:VEVENT
DTSTART;VALUE=DATE:20260508
DTEND;VALUE=DATE:20260511
DTSTAMP:20260423T181904
CREATED:20250416T210520Z
LAST-MODIFIED:20260322T192853Z
UID:2386-1778198400-1778457599@gsca.org
SUMMARY:Nodrog GSC of MI Specialties May 8 & 10
DESCRIPTION:Download the Premium List Here\n \n 
URL:https://gsca.org/event/nodrog-gsc-of-mi-specialties/
LOCATION:Lima Kennel Club Showground\, 1050 Thayer Rd\, Lima\, OH\, 45801\, United States
CATEGORIES:Conformation
ATTACH;FMTTYPE=image/png:https://gsca.org/wp-content/uploads/2025/04/nodrog.png
END:VEVENT
BEGIN:VEVENT
DTSTART;VALUE=DATE:20260509
DTEND;VALUE=DATE:20260510
DTSTAMP:20260423T181904
CREATED:20241217T043613Z
LAST-MODIFIED:20260322T193556Z
UID:2192-1778284800-1778371199@gsca.org
SUMMARY:GSCA Midwest Back to Back Specialties (OH)
DESCRIPTION:May 9\, GSCA\, Specialties (AM/PM)\, Lima Kennel Club Showground\, 1050 Thayer Rd\, Lima\, OH\, John Heltman\, 419.909.9053\, heltmanjk@aol.com \nDownload the premium LIst Here
URL:https://gsca.org/event/gsca-specialties-am-pm-oh/
LOCATION:Lima Kennel Club Showground\, 1050 Thayer Rd\, Lima\, OH\, 45801\, United States
CATEGORIES:Conformation
ORGANIZER;CN="John Heltman":MAILTO:heltmanjk@aol.com
END:VEVENT
BEGIN:VEVENT
DTSTART;VALUE=DATE:20260523
DTEND;VALUE=DATE:20260524
DTSTAMP:20260423T181904
CREATED:20250416T205208Z
LAST-MODIFIED:20260322T193725Z
UID:2378-1779494400-1779580799@gsca.org
SUMMARY:Golden Gate GSC Designated Specialty (CA)
DESCRIPTION:
URL:https://gsca.org/event/golden-gate-gsc-designated-specialty-ca/
LOCATION:El Dorado Country Fairgrounds\, 100 Placerville Drive\, Placerville\, CA\, 95667\, United States
CATEGORIES:Conformation
ORGANIZER;CN="Donna Afflerbach":MAILTO:donnafflerbach@gmail.com
END:VEVENT
BEGIN:VEVENT
DTSTART;TZID=America/New_York:20260529T080000
DTEND;TZID=America/New_York:20260529T170000
DTSTAMP:20260423T181904
CREATED:20260322T194110Z
LAST-MODIFIED:20260322T194209Z
UID:3162-1780041600-1780074000@gsca.org
SUMMARY:Pacific Northwest Gordon Setter Club Back to Back Specialties (WA)
DESCRIPTION:
URL:https://gsca.org/event/pacific-northwest-gordon-setter-club-back-to-back-specialties-wa/
LOCATION:Medicine Creek Winery\, 947 Old Pacific Highway SE\, Olympia\, WA\, 98513\, United States
CATEGORIES:Conformation
ORGANIZER;CN="Deb Shirley":MAILTO:deshirley@ymail.com
END:VEVENT
END:VCALENDAR