BEGIN:VCALENDAR
VERSION:2.0
PRODID:-//Gordon Setter Club Of America, Inc. - ECPv6.15.20//NONSGML v1.0//EN
CALSCALE:GREGORIAN
METHOD:PUBLISH
X-WR-CALNAME:Gordon Setter Club Of America, Inc.
X-ORIGINAL-URL:https://gsca.org
X-WR-CALDESC:Events for Gordon Setter Club Of America, Inc.
REFRESH-INTERVAL;VALUE=DURATION:PT1H
X-Robots-Tag:noindex
X-PUBLISHED-TTL:PT1H
BEGIN:VTIMEZONE
TZID:America/New_York
BEGIN:DAYLIGHT
TZOFFSETFROM:-0500
TZOFFSETTO:-0400
TZNAME:EDT
DTSTART:20250309T070000
END:DAYLIGHT
BEGIN:STANDARD
TZOFFSETFROM:-0400
TZOFFSETTO:-0500
TZNAME:EST
DTSTART:20251102T060000
END:STANDARD
BEGIN:DAYLIGHT
TZOFFSETFROM:-0500
TZOFFSETTO:-0400
TZNAME:EDT
DTSTART:20260308T070000
END:DAYLIGHT
BEGIN:STANDARD
TZOFFSETFROM:-0400
TZOFFSETTO:-0500
TZNAME:EST
DTSTART:20261101T060000
END:STANDARD
BEGIN:DAYLIGHT
TZOFFSETFROM:-0500
TZOFFSETTO:-0400
TZNAME:EDT
DTSTART:20270314T070000
END:DAYLIGHT
BEGIN:STANDARD
TZOFFSETFROM:-0400
TZOFFSETTO:-0500
TZNAME:EST
DTSTART:20271107T060000
END:STANDARD
END:VTIMEZONE
BEGIN:VEVENT
DTSTART;VALUE=DATE:20260219
DTEND;VALUE=DATE:20260222
DTSTAMP:20260423T193223
CREATED:20251124T005544Z
LAST-MODIFIED:20251124T005609Z
UID:2746-1771459200-1771718399@gsca.org
SUMMARY:GSCA Renaissance Cluster Specialties (WI)
DESCRIPTION:Superintendant: MB-F
URL:https://gsca.org/event/gsca-renaissance-cluster-specialties-wi/
LOCATION:Alliant Energy Center\, 1919 Alliant Energy Center Way\, Madison\, WI\, 53713\, United States
CATEGORIES:Conformation
ORGANIZER;CN="Barbara Burns":MAILTO:medic417@comcast.net
END:VEVENT
END:VCALENDAR