BEGIN:VCALENDAR
VERSION:2.0
PRODID:-//Gordon Setter Club Of America, Inc. - ECPv6.15.20//NONSGML v1.0//EN
CALSCALE:GREGORIAN
METHOD:PUBLISH
X-ORIGINAL-URL:https://gsca.org
X-WR-CALDESC:Events for Gordon Setter Club Of America, Inc.
REFRESH-INTERVAL;VALUE=DURATION:PT1H
X-Robots-Tag:noindex
X-PUBLISHED-TTL:PT1H
BEGIN:VTIMEZONE
TZID:America/New_York
BEGIN:DAYLIGHT
TZOFFSETFROM:-0500
TZOFFSETTO:-0400
TZNAME:EDT
DTSTART:20240310T070000
END:DAYLIGHT
BEGIN:STANDARD
TZOFFSETFROM:-0400
TZOFFSETTO:-0500
TZNAME:EST
DTSTART:20241103T060000
END:STANDARD
BEGIN:DAYLIGHT
TZOFFSETFROM:-0500
TZOFFSETTO:-0400
TZNAME:EDT
DTSTART:20250309T070000
END:DAYLIGHT
BEGIN:STANDARD
TZOFFSETFROM:-0400
TZOFFSETTO:-0500
TZNAME:EST
DTSTART:20251102T060000
END:STANDARD
BEGIN:DAYLIGHT
TZOFFSETFROM:-0500
TZOFFSETTO:-0400
TZNAME:EDT
DTSTART:20260308T070000
END:DAYLIGHT
BEGIN:STANDARD
TZOFFSETFROM:-0400
TZOFFSETTO:-0500
TZNAME:EST
DTSTART:20261101T060000
END:STANDARD
BEGIN:DAYLIGHT
TZOFFSETFROM:-0500
TZOFFSETTO:-0400
TZNAME:EDT
DTSTART:20270314T070000
END:DAYLIGHT
BEGIN:STANDARD
TZOFFSETFROM:-0400
TZOFFSETTO:-0500
TZNAME:EST
DTSTART:20271107T060000
END:STANDARD
END:VTIMEZONE
BEGIN:VEVENT
DTSTART;VALUE=DATE:20260411
DTEND;VALUE=DATE:20260413
DTSTAMP:20260423T204522
CREATED:20250406T200523Z
LAST-MODIFIED:20251124T011337Z
UID:2345-1775865600-1776038399@gsca.org
SUMMARY:Nodrog Gordon Setter Club Agility Trials
DESCRIPTION:April 10-12.  Nodrog Gordon Setter Club of MI\, Inc Agility Trials. Adventuretails\, 3414 Stone Blvd\, Fort Wayne\, IN\, Andy Gropp\, Trial Secretary 260.445.7545. wag@adventuretailsfortwayne.com  IND \nPremium here when ready
URL:https://gsca.org/event/nodrog-gordon-setter-club-agility-trials/
LOCATION:Adventuretails\, 3414 Stone Blvd\, Ft Wayne\, IN\, 46802\, United States
CATEGORIES:Agility
ORGANIZER;CN="Andy Gropp":MAILTO:Wag@adventuretailsfortwayne.com
END:VEVENT
BEGIN:VEVENT
DTSTART;VALUE=DATE:20260103
DTEND;VALUE=DATE:20260105
DTSTAMP:20260423T204522
CREATED:20241118T231726Z
LAST-MODIFIED:20251124T004918Z
UID:2135-1767398400-1767571199@gsca.org
SUMMARY:GSCA Agility Trials (OH)
DESCRIPTION:  \n 
URL:https://gsca.org/event/gsca-agility-trials-oh/
LOCATION:Queen City Dog Training Club\, 12018 Tramway Drive\, Sharonville\, OH\, 45241\, United States
CATEGORIES:Agility
ATTACH;FMTTYPE=image/jpeg:https://gsca.org/wp-content/uploads/2024/11/690-Awards-Agility-OPEN_1st_Shiloh_Kopperklad-Shilohs-By-Night-Sky_Gail-Deller-square-scaled.jpg
ORGANIZER;CN="Dianne Welling":MAILTO:dwelling@cinci.rr.com
END:VEVENT
BEGIN:VEVENT
DTSTART;VALUE=DATE:20250925
DTEND;VALUE=DATE:20250927
DTSTAMP:20260423T204522
CREATED:20250416T211638Z
LAST-MODIFIED:20250416T211638Z
UID:2397-1758758400-1758931199@gsca.org
SUMMARY:GSCA Agility Trials (PA)
DESCRIPTION:
URL:https://gsca.org/event/gsca-agility-trials-pa/
LOCATION:Bella Vista Training Center\, 730 Mt Airy Rd\, Lewisberry\, PA\, 17739\, United States
CATEGORIES:Agility
ORGANIZER;CN="Gail Deller":MAILTO:gsetterfan@aol.com
END:VEVENT
END:VCALENDAR