BEGIN:VCALENDAR
VERSION:2.0
PRODID:-//Gordon Setter Club Of America, Inc. - ECPv6.15.20//NONSGML v1.0//EN
CALSCALE:GREGORIAN
METHOD:PUBLISH
X-WR-CALNAME:Gordon Setter Club Of America, Inc.
X-ORIGINAL-URL:https://gsca.org
X-WR-CALDESC:Events for Gordon Setter Club Of America, Inc.
REFRESH-INTERVAL;VALUE=DURATION:PT1H
X-Robots-Tag:noindex
X-PUBLISHED-TTL:PT1H
BEGIN:VTIMEZONE
TZID:America/New_York
BEGIN:DAYLIGHT
TZOFFSETFROM:-0500
TZOFFSETTO:-0400
TZNAME:EDT
DTSTART:20250309T070000
END:DAYLIGHT
BEGIN:STANDARD
TZOFFSETFROM:-0400
TZOFFSETTO:-0500
TZNAME:EST
DTSTART:20251102T060000
END:STANDARD
BEGIN:DAYLIGHT
TZOFFSETFROM:-0500
TZOFFSETTO:-0400
TZNAME:EDT
DTSTART:20260308T070000
END:DAYLIGHT
BEGIN:STANDARD
TZOFFSETFROM:-0400
TZOFFSETTO:-0500
TZNAME:EST
DTSTART:20261101T060000
END:STANDARD
BEGIN:DAYLIGHT
TZOFFSETFROM:-0500
TZOFFSETTO:-0400
TZNAME:EDT
DTSTART:20270314T070000
END:DAYLIGHT
BEGIN:STANDARD
TZOFFSETFROM:-0400
TZOFFSETTO:-0500
TZNAME:EST
DTSTART:20271107T060000
END:STANDARD
END:VTIMEZONE
BEGIN:VEVENT
DTSTART;VALUE=DATE:20260103
DTEND;VALUE=DATE:20260105
DTSTAMP:20260424T003055
CREATED:20241118T231726Z
LAST-MODIFIED:20251124T004918Z
UID:2135-1767398400-1767571199@gsca.org
SUMMARY:GSCA Agility Trials (OH)
DESCRIPTION:  \n 
URL:https://gsca.org/event/gsca-agility-trials-oh/
LOCATION:Queen City Dog Training Club\, 12018 Tramway Drive\, Sharonville\, OH\, 45241\, United States
CATEGORIES:Agility
ATTACH;FMTTYPE=image/jpeg:https://gsca.org/wp-content/uploads/2024/11/690-Awards-Agility-OPEN_1st_Shiloh_Kopperklad-Shilohs-By-Night-Sky_Gail-Deller-square-scaled.jpg
ORGANIZER;CN="Dianne Welling":MAILTO:dwelling@cinci.rr.com
END:VEVENT
END:VCALENDAR